BEGIN:VCALENDAR
VERSION:2.0
PRODID:-//Squarespace Inc/Squarespace 6//v6//EN
BEGIN:VEVENT
UID:59b5e9d8bebafbbecae6a71c@squarespace.com
DTSTAMP:20171011T014923Z
DTSTART:20171020T220000Z
DTEND:20171020T230000Z
SUMMARY:Paua & Rude Boyz
END:VEVENT
END:VCALENDAR
