BEGIN:VCALENDAR
VERSION:2.0
PRODID:-//Squarespace Inc/Squarespace 6//v6//EN
BEGIN:VEVENT
UID:59f115d26f4ca3b7ef165e30@squarespace.com
DTSTAMP:20171205T005604Z
DTSTART:20171216T053000Z
DTEND:20171216T093000Z
SUMMARY:Ardijah Midnight Train to Georgia Spring Tour
GEO:-39.43148;176.871343
LOCATION:Crab Farm Winery
END:VEVENT
END:VCALENDAR
