BEGIN:VCALENDAR
VERSION:2.0
PRODID:-//Squarespace Inc/Squarespace 6//v6//EN
BEGIN:VEVENT
UID:5a2717f2419202d114127cfb@squarespace.com
DTSTAMP:20180601T023446Z
DTSTART:20180602T060000Z
DTEND:20180602T110000Z
SUMMARY:Saturday Night Session with White Chapel Jak
END:VEVENT
END:VCALENDAR
