BEGIN:VCALENDAR
VERSION:2.0
PRODID:-//Squarespace Inc/Squarespace 6//v6//EN
BEGIN:VEVENT
UID:5a25e3c8f9619aad494181c4@squarespace.com
DTSTAMP:20171205T005623Z
DTSTART:20171228T053000Z
DTEND:20171228T103000Z
SUMMARY:Aaradhna @ Crab Farm Winery
END:VEVENT
END:VCALENDAR
