BEGIN:VCALENDAR
VERSION:2.0
PRODID:-//Squarespace Inc/Squarespace 6//v6//EN
BEGIN:VEVENT
UID:5b8497e00ebbe8fadaf5ab6b@squarespace.com
DTSTAMP:20181014T212121Z
DTSTART:20181018T053000Z
DTEND:20181018T105500Z
SUMMARY:Saturday Night Session with White Chapel Jak
END:VEVENT
END:VCALENDAR
