BEGIN:VCALENDAR
VERSION:2.0
PRODID:-//Squarespace Inc/Squarespace 6//v6//EN
BEGIN:VEVENT
UID:5b889867562fa711c1e39a5f@squarespace.com
DTSTAMP:20180831T012851Z
DTSTART:20181006T053000Z
DTEND:20181006T093000Z
SUMMARY:Jazz Dinner
END:VEVENT
END:VCALENDAR
