BEGIN:VCALENDAR
VERSION:2.0
PRODID:-//Squarespace Inc/Squarespace 6//v6//EN
BEGIN:VEVENT
UID:5bc5046824a69409fa58477a@squarespace.com
DTSTAMP:20181015T212230Z
DTSTART:20181115T053000Z
DTEND:20181115T073000Z
SUMMARY:Yoga in the Park
END:VEVENT
END:VCALENDAR
