BEGIN:VCALENDAR
VERSION:2.0
PRODID:-//Squarespace Inc/Squarespace 6//v6//EN
BEGIN:VEVENT
UID:5b5a71e52b6a28ee17790038@squarespace.com
DTSTAMP:20180727T012047Z
DTSTART:20180901T063000Z
DTEND:20180901T103000Z
SUMMARY:Saturday Night Dinner - Father's Day
END:VEVENT
END:VCALENDAR
