BEGIN:VCALENDAR
VERSION:2.0
PRODID:-//Squarespace Inc/Squarespace 6//v6//EN
BEGIN:VEVENT
UID:5b1dcd1cf950b7e55e3d2280@squarespace.com
DTSTAMP:20180618T004044Z
DTSTART:20180704T063000Z
DTEND:20180704T093000Z
SUMMARY:Trivia Night - SOLD OUT
END:VEVENT
END:VCALENDAR
