BEGIN:VCALENDAR
VERSION:2.0
PRODID:-//Squarespace Inc/Squarespace 6//v6//EN
BEGIN:VEVENT
UID:5b26ffba8a922d2710715407@squarespace.com
DTSTAMP:20180618T004305Z
DTSTART:20180801T063000Z
DTEND:20180801T093000Z
SUMMARY:Trivia Night - SOLD OUT
END:VEVENT
END:VCALENDAR
