BEGIN:VCALENDAR
VERSION:2.0
PRODID:-//Squarespace Inc/Squarespace 6//v6//EN
BEGIN:VEVENT
UID:5b833f9e8a922d080024ae18@squarespace.com
DTSTAMP:20181014T212811Z
DTSTART:20181103T063000Z
DTEND:20181103T103000Z
SUMMARY:SOLD OUT - F.A.W.C! Boogie Nights
END:VEVENT
END:VCALENDAR
