BEGIN:VCALENDAR
VERSION:2.0
PRODID:-//Squarespace Inc/Squarespace 6//v6//EN
BEGIN:VEVENT
UID:5da8d1274ccdc64fa2085482@squarespace.com
DTSTAMP:20191017T204332Z
DTSTART:20191102T060000Z
DTEND:20191102T100000Z
SUMMARY:F.A.W.C! Boogie Nights
END:VEVENT
END:VCALENDAR
