BEGIN:VCALENDAR
VERSION:2.0
PRODID:-//Squarespace Inc/Squarespace 6//v6//EN
BEGIN:VEVENT
UID:5db0e2d5177b560afdba8c54@squarespace.com
DTSTAMP:20191023T234525Z
DTSTART:20191121T053000Z
DTEND:20191121T083000Z
SUMMARY:Trivia Night - November
END:VEVENT
END:VCALENDAR
