BEGIN:VCALENDAR
VERSION:2.0
PRODID:-//Squarespace Inc/Squarespace 6//v6//EN
BEGIN:VEVENT
UID:5db0e108b4f7c80b65663dad@squarespace.com
DTSTAMP:20191023T233044Z
DTSTART:20191123T030000Z
DTEND:20191123T063000Z
SUMMARY:Music in the Park at Crab Farm
END:VEVENT
END:VCALENDAR
