BEGIN:VCALENDAR
VERSION:2.0
PRODID:-//Squarespace Inc/Squarespace 6//v6//EN
BEGIN:VEVENT
UID:5ca16064f9619a88d33532d7@squarespace.com
DTSTAMP:20190528T231907Z
DTSTART:20190622T060000Z
DTEND:20190622T110000Z
SUMMARY:SOLD OUT -White Chapel Jak @ Crab Farm Winery
END:VEVENT
END:VCALENDAR
