BEGIN:VCALENDAR
VERSION:2.0
PRODID:-//Squarespace Inc/Squarespace 6//v6//EN
BEGIN:VEVENT
UID:5d00584661a08f000193f5f7@squarespace.com
DTSTAMP:20190705T011537Z
DTSTART:20190815T063000Z
DTEND:20190815T093000Z
SUMMARY:SOLD OUT - Trivia Night - Thursday the 15th of August
END:VEVENT
END:VCALENDAR
