BEGIN:VCALENDAR
VERSION:2.0
PRODID:-//Squarespace Inc/Squarespace 6//v6//EN
BEGIN:VEVENT
UID:5cd4cee2eef1a1726ae62739@squarespace.com
DTSTAMP:20190510T011048Z
DTSTART:20190615T063000Z
DTEND:20190615T103000Z
SUMMARY:F.A.W.C! Winter Warming Wind-up 
END:VEVENT
END:VCALENDAR
