BEGIN:VCALENDAR
VERSION:2.0
PRODID:-//Squarespace Inc/Squarespace 6//v6//EN
BEGIN:VEVENT
UID:5d0057a90187cc000115bb44@squarespace.com
DTSTAMP:20190616T230138Z
DTSTART:20190711T063000Z
DTEND:20190711T093000Z
SUMMARY:"SOLD OUT" Trivia Night - Thursday the 11th of July
END:VEVENT
END:VCALENDAR
