BEGIN:VCALENDAR
VERSION:2.0
PRODID:-//Squarespace Inc/Squarespace 6//v6//EN
BEGIN:VEVENT
UID:5d02fcf5b8e61d00015cc65d@squarespace.com
DTSTAMP:20190715T010609Z
DTSTART:20190720T060000Z
DTEND:20190720T103000Z
SUMMARY:SOLD OUT -Stretch with Paula - Fireside at Crab Farm Winery
END:VEVENT
END:VCALENDAR
